BEGIN:VCALENDAR
VERSION:2.0
PRODID:-//Montgomery History - ECPv6.15.11//NONSGML v1.0//EN
CALSCALE:GREGORIAN
METHOD:PUBLISH
X-WR-CALNAME:Montgomery History
X-ORIGINAL-URL:https://montgomeryhistory.org/es
X-WR-CALDESC:Eventos para Montgomery History
REFRESH-INTERVAL;VALUE=DURATION:PT1H
X-Robots-Tag:noindex
X-PUBLISHED-TTL:PT1H
BEGIN:VTIMEZONE
TZID:America/New_York
BEGIN:DAYLIGHT
TZOFFSETFROM:-0500
TZOFFSETTO:-0400
TZNAME:EDT
DTSTART:20230312T070000
END:DAYLIGHT
BEGIN:STANDARD
TZOFFSETFROM:-0400
TZOFFSETTO:-0500
TZNAME:EST
DTSTART:20231105T060000
END:STANDARD
BEGIN:DAYLIGHT
TZOFFSETFROM:-0500
TZOFFSETTO:-0400
TZNAME:EDT
DTSTART:20240310T070000
END:DAYLIGHT
BEGIN:STANDARD
TZOFFSETFROM:-0400
TZOFFSETTO:-0500
TZNAME:EST
DTSTART:20241103T060000
END:STANDARD
BEGIN:DAYLIGHT
TZOFFSETFROM:-0500
TZOFFSETTO:-0400
TZNAME:EDT
DTSTART:20250309T070000
END:DAYLIGHT
BEGIN:STANDARD
TZOFFSETFROM:-0400
TZOFFSETTO:-0500
TZNAME:EST
DTSTART:20251102T060000
END:STANDARD
END:VTIMEZONE
BEGIN:VEVENT
DTSTART;TZID=America/New_York:20240924T140000
DTEND;TZID=America/New_York:20240924T150000
DTSTAMP:20260423T161054
CREATED:20240916T130526Z
LAST-MODIFIED:20240916T130526Z
UID:15418-1727186400-1727190000@montgomeryhistory.org
SUMMARY:History Conversations | The History of Reed Brothers Dodge
DESCRIPTION:With Jeanne Gartner|Tuesday\, September 24 at 2:00 p.m. | Virtual Event |  Reed Brothers Dodge was one of the longest running automobile dealerships in Montgomery County history\, operating from two locations in Rockville for more than 97 years. This presentation features historical photographs taken by the dealership’s founder\, Lewis Reed\, and highlights how Reed Brothers Dodge came into being\, and how the company overcame the inevitable changes and challenges throughout almost a century of being in business. From World War I\, through the Great Depression and World War II\, to economic recessions and numerous Chrysler financial setbacks during the 1970s and 80s\, the business rose and fell with the tides of the auto industry and stood the test of time.  Register Here    
URL:https://montgomeryhistory.org/es/event/history-conversations-the-history-of-reed-brothers-dodge/
ATTACH;FMTTYPE=image/jpeg:https://montgomeryhistory.org/wp-content/uploads/2024/09/1921-Reed-Brothers-Dodge.jpg
ORGANIZER;CN="Montgomery History":MAILTO:mgagle@montgomeryhistory.org
END:VEVENT
END:VCALENDAR