BEGIN:VCALENDAR
VERSION:2.0
PRODID:-//Montgomery History - ECPv6.15.11//NONSGML v1.0//EN
CALSCALE:GREGORIAN
METHOD:PUBLISH
X-WR-CALNAME:Montgomery History
X-ORIGINAL-URL:https://montgomeryhistory.org/es
X-WR-CALDESC:Eventos para Montgomery History
REFRESH-INTERVAL;VALUE=DURATION:PT1H
X-Robots-Tag:noindex
X-PUBLISHED-TTL:PT1H
BEGIN:VTIMEZONE
TZID:America/New_York
BEGIN:DAYLIGHT
TZOFFSETFROM:-0500
TZOFFSETTO:-0400
TZNAME:EDT
DTSTART:20230312T070000
END:DAYLIGHT
BEGIN:STANDARD
TZOFFSETFROM:-0400
TZOFFSETTO:-0500
TZNAME:EST
DTSTART:20231105T060000
END:STANDARD
BEGIN:DAYLIGHT
TZOFFSETFROM:-0500
TZOFFSETTO:-0400
TZNAME:EDT
DTSTART:20240310T070000
END:DAYLIGHT
BEGIN:STANDARD
TZOFFSETFROM:-0400
TZOFFSETTO:-0500
TZNAME:EST
DTSTART:20241103T060000
END:STANDARD
BEGIN:DAYLIGHT
TZOFFSETFROM:-0500
TZOFFSETTO:-0400
TZNAME:EDT
DTSTART:20250309T070000
END:DAYLIGHT
BEGIN:STANDARD
TZOFFSETFROM:-0400
TZOFFSETTO:-0500
TZNAME:EST
DTSTART:20251102T060000
END:STANDARD
END:VTIMEZONE
BEGIN:VEVENT
DTSTART;VALUE=DATE:20240930
DTEND;VALUE=DATE:20241007
DTSTAMP:20260423T062642
CREATED:20240923T132947Z
LAST-MODIFIED:20241206T171401Z
UID:15490-1727654400-1728259199@montgomeryhistory.org
SUMMARY:History Conversations REWIND | Historic Preservation: Why Does It Matter?
DESCRIPTION:with Eileen McGuckian | If we can read history in books\, do we need to see historic buildings in person? Many people think so\, and this session will feature how local preservation has been accomplished over the past century. The significance of places like cemeteries\, the Silver Theatre\, the Red Brick Courthouse\, the Dickerson Railroad Station\, and the Bethesda Meeting House along with towns and communities such as Brookeville and Sugarland will be explored. This session will delve into places worth preserving\, local experiences\, and current practices in Montgomery County. Originally aired at the January 2023 Montgomery County History Conference.     
URL:https://montgomeryhistory.org/es/event/history-conversations-rewind-historic-preservation-why-does-it-matter/
ATTACH;FMTTYPE=image/png:https://montgomeryhistory.org/wp-content/uploads/2024/09/Slide1.png
ORGANIZER;CN="Montgomery History":MAILTO:mgagle@montgomeryhistory.org
END:VEVENT
END:VCALENDAR