BEGIN:VCALENDAR
VERSION:2.0
PRODID:-//Montgomery History - ECPv6.15.11//NONSGML v1.0//EN
CALSCALE:GREGORIAN
METHOD:PUBLISH
X-WR-CALNAME:Montgomery History
X-ORIGINAL-URL:https://montgomeryhistory.org
X-WR-CALDESC:Events for Montgomery History
REFRESH-INTERVAL;VALUE=DURATION:PT1H
X-Robots-Tag:noindex
X-PUBLISHED-TTL:PT1H
BEGIN:VTIMEZONE
TZID:America/New_York
BEGIN:DAYLIGHT
TZOFFSETFROM:-0500
TZOFFSETTO:-0400
TZNAME:EDT
DTSTART:20240310T070000
END:DAYLIGHT
BEGIN:STANDARD
TZOFFSETFROM:-0400
TZOFFSETTO:-0500
TZNAME:EST
DTSTART:20241103T060000
END:STANDARD
BEGIN:DAYLIGHT
TZOFFSETFROM:-0500
TZOFFSETTO:-0400
TZNAME:EDT
DTSTART:20250309T070000
END:DAYLIGHT
BEGIN:STANDARD
TZOFFSETFROM:-0400
TZOFFSETTO:-0500
TZNAME:EST
DTSTART:20251102T060000
END:STANDARD
BEGIN:DAYLIGHT
TZOFFSETFROM:-0500
TZOFFSETTO:-0400
TZNAME:EDT
DTSTART:20260308T070000
END:DAYLIGHT
BEGIN:STANDARD
TZOFFSETFROM:-0400
TZOFFSETTO:-0500
TZNAME:EST
DTSTART:20261101T060000
END:STANDARD
END:VTIMEZONE
BEGIN:VEVENT
DTSTART;TZID=America/New_York:20250512T100000
DTEND;TZID=America/New_York:20250512T120000
DTSTAMP:20260423T110623
CREATED:20250428T133658Z
LAST-MODIFIED:20250509T121424Z
UID:16533-1747044000-1747051200@montgomeryhistory.org
SUMMARY:Walking Tour at Washington Aqueduct
DESCRIPTION:May 12 at 10 AM | With Ralph Buglass | Join Montgomery History for a special tour at the C&O Canal’s Monocacy Aqueduct. Popular Local historian Ralph Buglass will take us along the C&O canal to see the Monocacy Aqueduct and Lock 27\, Ralph will provide historic context for these important historic structures and share interesting and unique facts about their past! He will also briefly discuss the history of ferries in the area. This walk will require walking approximately one mile on paths along the canal. Appropriate attire is recommended\, including closed toe shoes. Montgomery History will provide water bottles\, but come prepared for warm weather. toilets will be available at the start and finish parking lot. We will provide the exact starting location the Friday before the tour. Rain date May 15\, but may change based on weather forecast. Register Here   
URL:https://montgomeryhistory.org/event/walking-tour-at-washington-aqueduct/
ATTACH;FMTTYPE=image/jpeg:https://montgomeryhistory.org/wp-content/uploads/2025/04/015-002AB-1.jpg
ORGANIZER;CN="Montgomery History":MAILTO:mgagle@montgomeryhistory.org
END:VEVENT
END:VCALENDAR