BEGIN:VCALENDAR
VERSION:2.0
PRODID:-//Montgomery History - ECPv6.15.11//NONSGML v1.0//EN
CALSCALE:GREGORIAN
METHOD:PUBLISH
X-WR-CALNAME:Montgomery History
X-ORIGINAL-URL:https://montgomeryhistory.org
X-WR-CALDESC:Events for Montgomery History
REFRESH-INTERVAL;VALUE=DURATION:PT1H
X-Robots-Tag:noindex
X-PUBLISHED-TTL:PT1H
BEGIN:VTIMEZONE
TZID:America/New_York
BEGIN:DAYLIGHT
TZOFFSETFROM:-0500
TZOFFSETTO:-0400
TZNAME:EDT
DTSTART:20240310T070000
END:DAYLIGHT
BEGIN:STANDARD
TZOFFSETFROM:-0400
TZOFFSETTO:-0500
TZNAME:EST
DTSTART:20241103T060000
END:STANDARD
BEGIN:DAYLIGHT
TZOFFSETFROM:-0500
TZOFFSETTO:-0400
TZNAME:EDT
DTSTART:20250309T070000
END:DAYLIGHT
BEGIN:STANDARD
TZOFFSETFROM:-0400
TZOFFSETTO:-0500
TZNAME:EST
DTSTART:20251102T060000
END:STANDARD
BEGIN:DAYLIGHT
TZOFFSETFROM:-0500
TZOFFSETTO:-0400
TZNAME:EDT
DTSTART:20260308T070000
END:DAYLIGHT
BEGIN:STANDARD
TZOFFSETFROM:-0400
TZOFFSETTO:-0500
TZNAME:EST
DTSTART:20261101T060000
END:STANDARD
END:VTIMEZONE
BEGIN:VEVENT
DTSTART;TZID=America/New_York:20251016T190000
DTEND;TZID=America/New_York:20251016T200000
DTSTAMP:20260420T092839
CREATED:20250905T175206Z
LAST-MODIFIED:20251020T125333Z
UID:17192-1760641200-1760644800@montgomeryhistory.org
SUMMARY:History Conversations | Jerusalem-Mt. Pleasant United Methodist Church – 190 Years in the Community
DESCRIPTION:with Chiquita C. Sorrels | Thursday\, October  16 at 7:00 p.m. | Virtual Event |  Jerusalem-Mt. Pleasant United Methodist Church is celebrating its 190th Anniversary this year. Established in 1835\, it is the oldest African American church in Rockville. Through church splits and mergers and multiple name changes it has served as a place of worship and supported other community needs. Join Ms. Sorrels as she takes you through the long and inspiring history of this landmark institution.   
URL:https://montgomeryhistory.org/event/history-conversations-further-off-the-beaten-path/
ATTACH;FMTTYPE=image/jpeg:https://montgomeryhistory.org/wp-content/uploads/2025/09/Church-photo.jpg
ORGANIZER;CN="Montgomery History":MAILTO:mgagle@montgomeryhistory.org
END:VEVENT
END:VCALENDAR