BEGIN:VCALENDAR
VERSION:2.0
PRODID:-//Montgomery History - ECPv6.15.11//NONSGML v1.0//EN
CALSCALE:GREGORIAN
METHOD:PUBLISH
X-WR-CALNAME:Montgomery History
X-ORIGINAL-URL:https://montgomeryhistory.org
X-WR-CALDESC:Events for Montgomery History
REFRESH-INTERVAL;VALUE=DURATION:PT1H
X-Robots-Tag:noindex
X-PUBLISHED-TTL:PT1H
BEGIN:VTIMEZONE
TZID:America/New_York
BEGIN:DAYLIGHT
TZOFFSETFROM:-0500
TZOFFSETTO:-0400
TZNAME:EDT
DTSTART:20240310T070000
END:DAYLIGHT
BEGIN:STANDARD
TZOFFSETFROM:-0400
TZOFFSETTO:-0500
TZNAME:EST
DTSTART:20241103T060000
END:STANDARD
BEGIN:DAYLIGHT
TZOFFSETFROM:-0500
TZOFFSETTO:-0400
TZNAME:EDT
DTSTART:20250309T070000
END:DAYLIGHT
BEGIN:STANDARD
TZOFFSETFROM:-0400
TZOFFSETTO:-0500
TZNAME:EST
DTSTART:20251102T060000
END:STANDARD
BEGIN:DAYLIGHT
TZOFFSETFROM:-0500
TZOFFSETTO:-0400
TZNAME:EDT
DTSTART:20260308T070000
END:DAYLIGHT
BEGIN:STANDARD
TZOFFSETFROM:-0400
TZOFFSETTO:-0500
TZNAME:EST
DTSTART:20261101T060000
END:STANDARD
END:VTIMEZONE
BEGIN:VEVENT
DTSTART;VALUE=DATE:20251020
DTEND;VALUE=DATE:20251027
DTSTAMP:20260420T092745
CREATED:20250929T135137Z
LAST-MODIFIED:20251020T125201Z
UID:17307-1760918400-1761523199@montgomeryhistory.org
SUMMARY:History Conversations REWIND | Montgomery County Sentinel: The Evolution of Local Journalism Since 1855
DESCRIPTION:with Paul Schwartz | Prerecorded virtual event | Enjoy this must-see presentation that brings attendees through a 164-year journey of local history as told through the news stories covered in the Montgomery County Sentinel: one of the most important sources of local journalism. The paper covered everything from civil rights to the Civil War\, county infrastructure\, 20th century development\, two world wars\, the Giles-Johnson case\, and more. Though the physical paper shut down in 2020\, its legacy remains to this day. Originally recorded at the January 2020 Montgomery County History Conference.Recording available October 20 – October 26. 
URL:https://montgomeryhistory.org/event/history-conversations-rewind-historic-preservation-why-does-it-matter-2/
ATTACH;FMTTYPE=image/png:https://montgomeryhistory.org/wp-content/uploads/2025/09/Screenshot-2025-10-08-at-11.27.31-AM-scaled.png
ORGANIZER;CN="Montgomery History":MAILTO:mgagle@montgomeryhistory.org
END:VEVENT
END:VCALENDAR