BEGIN:VCALENDAR
VERSION:2.0
PRODID:-//Montgomery History - ECPv6.15.11//NONSGML v1.0//EN
CALSCALE:GREGORIAN
METHOD:PUBLISH
X-WR-CALNAME:Montgomery History
X-ORIGINAL-URL:https://montgomeryhistory.org
X-WR-CALDESC:Events for Montgomery History
REFRESH-INTERVAL;VALUE=DURATION:PT1H
X-Robots-Tag:noindex
X-PUBLISHED-TTL:PT1H
BEGIN:VTIMEZONE
TZID:America/New_York
BEGIN:DAYLIGHT
TZOFFSETFROM:-0500
TZOFFSETTO:-0400
TZNAME:EDT
DTSTART:20240310T070000
END:DAYLIGHT
BEGIN:STANDARD
TZOFFSETFROM:-0400
TZOFFSETTO:-0500
TZNAME:EST
DTSTART:20241103T060000
END:STANDARD
BEGIN:DAYLIGHT
TZOFFSETFROM:-0500
TZOFFSETTO:-0400
TZNAME:EDT
DTSTART:20250309T070000
END:DAYLIGHT
BEGIN:STANDARD
TZOFFSETFROM:-0400
TZOFFSETTO:-0500
TZNAME:EST
DTSTART:20251102T060000
END:STANDARD
BEGIN:DAYLIGHT
TZOFFSETFROM:-0500
TZOFFSETTO:-0400
TZNAME:EDT
DTSTART:20260308T070000
END:DAYLIGHT
BEGIN:STANDARD
TZOFFSETFROM:-0400
TZOFFSETTO:-0500
TZNAME:EST
DTSTART:20261101T060000
END:STANDARD
END:VTIMEZONE
BEGIN:VTIMEZONE
TZID:America/New_York
BEGIN:DAYLIGHT
TZOFFSETFROM:-0500
TZOFFSETTO:-0400
TZNAME:EDT
DTSTART:20240310T070000
END:DAYLIGHT
BEGIN:STANDARD
TZOFFSETFROM:-0400
TZOFFSETTO:-0500
TZNAME:EST
DTSTART:20241103T060000
END:STANDARD
BEGIN:DAYLIGHT
TZOFFSETFROM:-0500
TZOFFSETTO:-0400
TZNAME:EDT
DTSTART:20250309T070000
END:DAYLIGHT
BEGIN:STANDARD
TZOFFSETFROM:-0400
TZOFFSETTO:-0500
TZNAME:EST
DTSTART:20251102T060000
END:STANDARD
BEGIN:DAYLIGHT
TZOFFSETFROM:-0500
TZOFFSETTO:-0400
TZNAME:EDT
DTSTART:20260308T070000
END:DAYLIGHT
BEGIN:STANDARD
TZOFFSETFROM:-0400
TZOFFSETTO:-0500
TZNAME:EST
DTSTART:20261101T060000
END:STANDARD
END:VTIMEZONE
BEGIN:VEVENT
DTSTART;VALUE=DATE:20251027
DTEND;VALUE=DATE:20251103
DTSTAMP:20260420T092930
CREATED:20251020T125715Z
LAST-MODIFIED:20260330T134309Z
UID:17485-1761523200-1762127999@montgomeryhistory.org
SUMMARY:History Conversations REWIND | A Brief Survey of Our Inheritance
DESCRIPTION:with Kenny Sholes | Prerecorded virtual event | The lands around us have played an important part in American history over the last few centuries. The fields we pass through each day have spurred economic development\, been the scene of battles\, provided escape from the pace of daily life\, and brought families together at the dinner table. Dotting this landscape is an array of impressive historic homes – standing as visual reminders of those who came before us. In this presentation\, we will review some of the incredible historic homes in the Medley District area of the Ag Reserve\, using the homes as a way to better understand the people whose land we’ve inherited and how their dreams\, goals\, and struggles were not all that different from ours today. Originally aired May 2020. Recording available October 27 – November 2.  
URL:https://montgomeryhistory.org/event/history-conversations-rewind-a-brief-survey-of-our-inheritance/
ATTACH;FMTTYPE=image/jpeg:https://montgomeryhistory.org/wp-content/uploads/2025/10/003-001I-1.jpg
ORGANIZER;CN="Montgomery History":MAILTO:mgagle@montgomeryhistory.org
END:VEVENT
BEGIN:VEVENT
DTSTART;VALUE=DATE:20251103
DTEND;VALUE=DATE:20251110
DTSTAMP:20260420T092930
CREATED:20251027T132731Z
LAST-MODIFIED:20260330T134257Z
UID:17501-1762128000-1762732799@montgomeryhistory.org
SUMMARY:History Conversations REWIND | Flee North
DESCRIPTION:with Scott Shane | Prerecorded virtual event | Scott Shane’s Flee North tells a very local tale of both tragedy and triumph. It unearths the lost story of Thomas Smallwood\, born into slavery\, who bought his freedom\, educated himself\, and became a shoemaker in Southeast Washington\, a short walk from the U.S. Capitol. In 1842\, Smallwood began to organize mass escapes from slavery by the wagonload\, with the help of a young white partner\, Charles Torrey — and wrote about the escapes in extraordinary satirical dispatches for an abolitionist newspaper in Albany\, New York. It was Smallwood\, Scott Shane discovered\, who gave the underground railroad its name. But Smallwood’s daring operation took place against the very dark background of the domestic slave trade\, which thrived on Washington’s mall and at Baltimore’s Inner Harbor\, shipping thousands of people every year away from their families to the cotton and sugar plantations of the Deep South. The book’s third major character\, Baltimore’s Hope Slatter\, was the era’s dominant slave trader\, operating from his private “slave jail” near the city’s harbor. The domestic slave trade\, still too little understood\, became an engine driving the underground railroad. Originally presented at the 2024 Montgomery County History Conference. Recording available November 3 – 9.  
URL:https://montgomeryhistory.org/event/history-conversations-rewind-flee-north/
ATTACH;FMTTYPE=image/png:https://montgomeryhistory.org/wp-content/uploads/2025/10/FleeNorth-CoverReveal.png
ORGANIZER;CN="Montgomery History":MAILTO:mgagle@montgomeryhistory.org
END:VEVENT
BEGIN:VEVENT
DTSTART;TZID=America/New_York:20251108T080000
DTEND;TZID=America/New_York:20251108T170000
DTSTAMP:20260420T092930
CREATED:20250921T004637Z
LAST-MODIFIED:20251003T161140Z
UID:17267-1762588800-1762621200@montgomeryhistory.org
SUMMARY:2025 Montgomery County History Conference
DESCRIPTION:SAVE THE DATE — November 8\, 2025 | The Montgomery County History Conference returns November 8\, 2025 at Montgomery College’s Bioscience Education building on the Germantown campus! | Join us as we celebrate and reflect on the 250th anniversary of Montgomery County. Learn More Here    
URL:https://montgomeryhistory.org/event/2025-montgomery-county-history-conference/
LOCATION:20200 Observation Dr\, Germantown\, MD 20876\, 20200 Observation Dr\, Germantown\, MD\, 20876\, United States
ATTACH;FMTTYPE=image/jpeg:https://montgomeryhistory.org/wp-content/uploads/2025/09/MontgomeryHistory_MoCo250_final-web.jpg
END:VEVENT
BEGIN:VEVENT
DTSTART;VALUE=DATE:20251110
DTEND;VALUE=DATE:20251117
DTSTAMP:20260420T092930
CREATED:20251103T142630Z
LAST-MODIFIED:20251117T044058Z
UID:17533-1762732800-1763337599@montgomeryhistory.org
SUMMARY:History Conversations REWIND | Building Washington National Cathedral
DESCRIPTION:with Andy Bittner | Prerecorded virtual event | At 83 years\, the building of Washington National Cathedral was the longest-lasting construction project in the history of Washington D.C.\, and it resulted in one of the great wonders of the 20th century. Join Andy Bittner\, author of the book Building Washington National Cathedral\, as he takes you on a photographic journey through the years of the cathedral’s construction and introduces you to some of the key figures in that amazing story. Originally aired August 2022.      
URL:https://montgomeryhistory.org/event/history-conversations-rewind-building-washington-national-cathedral/
ATTACH;FMTTYPE=image/jpeg:https://montgomeryhistory.org/wp-content/uploads/2022/08/Building-Washington-National-Cathedral.jpg
ORGANIZER;CN="Montgomery History":MAILTO:mgagle@montgomeryhistory.org
END:VEVENT
BEGIN:VEVENT
DTSTART;VALUE=DATE:20251110
DTEND;VALUE=DATE:20251117
DTSTAMP:20260420T092930
CREATED:20251110T142648Z
LAST-MODIFIED:20260330T134238Z
UID:17587-1762732800-1763337599@montgomeryhistory.org
SUMMARY:History Conversations REWIND | A WWI Soldier’s Story
DESCRIPTION:with Ed and Nancy Bodmer | Prerecorded virtual event | In this lecture titled A World War I Soldier’s Story\, Ed and Nancy Bodmer recount Charles Roszier Bodmer’s heroic experiences in World War I with his uniform\, helmet\, letters\, and pictures. Recording available November 17– November 23.    
URL:https://montgomeryhistory.org/event/history-conversations-rewind-a-wwi-soldiers-story/
ATTACH;FMTTYPE=image/png:https://montgomeryhistory.org/wp-content/uploads/2025/11/Screenshot-2025-11-05-at-11.10.48-AM.png
ORGANIZER;CN="Montgomery History":MAILTO:mgagle@montgomeryhistory.org
END:VEVENT
BEGIN:VEVENT
DTSTART;VALUE=DATE:20251124
DTEND;VALUE=DATE:20251201
DTSTAMP:20260420T092930
CREATED:20251117T043833Z
LAST-MODIFIED:20251208T150329Z
UID:17739-1763942400-1764547199@montgomeryhistory.org
SUMMARY:History Conversations REWIND | Clara Barton at Antietam
DESCRIPTION:with Susan Rosenvold | Prerecorded virtual event | Discover Clara Barton’s first foray on the field of battle\, from the meeting that gained her permission to take supplies to and travel with the Army through Maryland\, to her experiences at the Battle of Antietam and her return to Washington D.C. Despite the horrors and challenges she faced\, it solidified her determination to become a dedicated humanitarian and led to the establishment of the American Red Cross. Originally aired in September 2020. Recording available November 24 – November 30.
URL:https://montgomeryhistory.org/event/history-conversations-rewind-discover-clara-bartons-first-foray-on-the-field-of-battle-from-the-meeting-that-gained-her-permission-to-take-supplies-to-and-travel-with-the-army-through-mary/
ATTACH;FMTTYPE=image/jpeg:https://montgomeryhistory.org/wp-content/uploads/2025/11/service-pnp-ppmsca-56300-56384v.jpg
ORGANIZER;CN="Montgomery History":MAILTO:mgagle@montgomeryhistory.org
END:VEVENT
END:VCALENDAR